BEGIN:VCALENDAR
VERSION:2.0
PRODID:-//104.152.168.27//NONSGML kigkonsult.se iCalcreator 2.20//
CALSCALE:GREGORIAN
METHOD:PUBLISH
X-WR-TIMEZONE:Asia/Tokyo
BEGIN:VEVENT
UID:event40346@Tokyo Gig Guide
DTSTAMP:20260420T014355Z
CATEGORIES:Experimental\, Improvised\, Instrumental
DESCRIPTION:Miki Naoe x Kawol SamarQandi\nカテゴリ: Experimental\, Improvised\,
  Instrumental\nリンク: https://www.tokyogigguide.com/index.php?option=com_jem
 &view=event&id=40346:live-miki-naoe-x-kawol-samarqandi&Itemid=1094\n
DTSTART:20260428T193000
DTEND:20260428T193000
LOCATION:Oriental Force\,#8 Nitto Build. B1\, Koenji-Minami 3-38-6\,Koenji
SUMMARY:Miki Naoe x Kawol SamarQandi
URL:https://www.tokyogigguide.com/index.php?option=com_jem&view=event&id=40
 346:live-miki-naoe-x-kawol-samarqandi&Itemid=1094
END:VEVENT
END:VCALENDAR
