BEGIN:VCALENDAR
VERSION:2.0
PRODID:-//104.152.168.27//NONSGML kigkonsult.se iCalcreator 2.20//
CALSCALE:GREGORIAN
METHOD:PUBLISH
X-WR-TIMEZONE:Asia/Tokyo
BEGIN:VEVENT
UID:event40344@Tokyo Gig Guide
DTSTAMP:20260424T014618Z
CATEGORIES:Alternative\, Avant garde\, Electro\, Experimental
DESCRIPTION:嗚咽民\, PUNSUCA\, Nekodo (Nekodo Family)\, Denteki Shuzou\, Morik
 awa Yasushi x NEGI\nカテゴリ: Alternative\, Avant garde\, Electro\, Experiment
 al\nリンク: https://www.tokyogigguide.com/index.php?option=com_jem&view=event
 &id=40344:live-punsuca-nekodo-nekodo-family-denteki-shuzou-morikawa-yasush
 i-x-negi&Itemid=1094\n
DTSTART:20260425T180000
DTEND:20260425T180000
LOCATION:Oriental Force\,#8 Nitto Build. B1\, Koenji-Minami 3-38-6\,Koenji
SUMMARY:嗚咽民\, PUNSUCA\, Nekodo (Nekodo Family)\, Denteki Shuzou\, Morikawa 
 Yasushi x NEGI
URL:https://www.tokyogigguide.com/index.php?option=com_jem&view=event&id=40
 344:live-punsuca-nekodo-nekodo-family-denteki-shuzou-morikawa-yasushi-x-ne
 gi&Itemid=1094
END:VEVENT
END:VCALENDAR
