BEGIN:VCALENDAR
VERSION:2.0
PRODID:-//104.152.168.27//NONSGML kigkonsult.se iCalcreator 2.20//
CALSCALE:GREGORIAN
METHOD:PUBLISH
X-WR-TIMEZONE:Asia/Tokyo
BEGIN:VEVENT
UID:event40235@Tokyo Gig Guide
DTSTAMP:20260420T061951Z
CATEGORIES:Alternative
DESCRIPTION:Yagihiromi [Cruyff] (guitar)\, Risa Takeda (synth)\, Shiori Sek
 ine [Base Ball Bear\, stico] (bass)\, hina (drums)\nカテゴリ: Alternative\nリンク
 : https://www.tokyogigguide.com/index.php?option=com_jem&view=event&id=402
 35:yagihiromi-cruyff-guitar-risa-takeda-synth-shiori-sekine-base-ball-bear
 -stico-bass-hina-drums&Itemid=1094\n
DTSTART:20260417T190000
DTEND:20260417T190000
LOCATION:POLARIS\,6-2-10 Minami-Aoyama\, Minato-ku\, Tokyo\,Minami-Aoyama
SUMMARY:Yagihiromi [Cruyff] (guitar)\, Risa Takeda (synth)\, Shiori Sekine 
 [Base Ball Bear\, stico] (bass)\, hina (drums)
URL:https://www.tokyogigguide.com/index.php?option=com_jem&view=event&id=40
 235:yagihiromi-cruyff-guitar-risa-takeda-synth-shiori-sekine-base-ball-bea
 r-stico-bass-hina-drums&Itemid=1094
END:VEVENT
END:VCALENDAR
