BEGIN:VCALENDAR
VERSION:2.0
PRODID:-//104.152.168.27//NONSGML kigkonsult.se iCalcreator 2.20//
CALSCALE:GREGORIAN
METHOD:PUBLISH
X-WR-TIMEZONE:Asia/Tokyo
BEGIN:VEVENT
UID:event4022@Tokyo Gig Guide
DTSTAMP:20260419T142220Z
CATEGORIES:Improvised
DESCRIPTION:BABEL\nカテゴリ: Improvised\nリンク: https://www.tokyogigguide.com/ind
 ex.php?option=com_jem&view=event&id=4022:babel&Itemid=1094\n
DTSTART:20110204T190000
DTEND:20110204T190000
LOCATION:Airegin\,5-60 Sumiyoshi-cho\, Naka-ku\, Yokohama\, Kanagawa\,Yokoh
 ama
SUMMARY:BABEL
URL:https://www.tokyogigguide.com/index.php?option=com_jem&view=event&id=40
 22:babel&Itemid=1094
END:VEVENT
END:VCALENDAR
