BEGIN:VCALENDAR
VERSION:2.0
PRODID:-//104.152.168.27//NONSGML kigkonsult.se iCalcreator 2.20//
CALSCALE:GREGORIAN
METHOD:PUBLISH
X-WR-TIMEZONE:Asia/Tokyo
BEGIN:VEVENT
UID:event40143@Tokyo Gig Guide
DTSTAMP:20260421T142227Z
CATEGORIES:Alternative\, Avant garde\, Electronic\, Experimental\, Instrume
 ntal
DESCRIPTION:PACHIKURI ELEGANCE/ Koshiishi Bucky Tomohiro(sax) CEO(g) Higo H
 iroshi(b) Okamura Futoshi(ds)\nカテゴリ: Alternative\, Avant garde\, Electroni
 c\, Experimental\, Instrumental\nリンク: https://www.tokyogigguide.com/index.
 php?option=com_jem&view=event&id=40143:pachikuri-elegance-koshiishi-bucky-
 tomohiro-sax-ceo-g-higo-hiroshi-b-okamura-futoshi-ds&Itemid=1094\n
DTSTART:20260311T190000
DTEND:20260311T190000
LOCATION:Knuttel House\,4-1-8 Matsugaya\, Taito-ku\, Tokyo\,Iriya
SUMMARY:PACHIKURI ELEGANCE/ Koshiishi Bucky Tomohiro(sax) CEO(g) Higo Hiros
 hi(b) Okamura Futoshi(ds)
URL:https://www.tokyogigguide.com/index.php?option=com_jem&view=event&id=40
 143:pachikuri-elegance-koshiishi-bucky-tomohiro-sax-ceo-g-higo-hiroshi-b-o
 kamura-futoshi-ds&Itemid=1094
END:VEVENT
END:VCALENDAR
