BEGIN:VCALENDAR
VERSION:2.0
PRODID:-//104.152.168.27//NONSGML kigkonsult.se iCalcreator 2.20//
CALSCALE:GREGORIAN
METHOD:PUBLISH
X-WR-TIMEZONE:Asia/Tokyo
BEGIN:VEVENT
UID:event40128@Tokyo Gig Guide
DTSTAMP:20260421T033515Z
CATEGORIES:Indie\, Alternative\, Noise Rock\, Rock\, Shoegaze
DESCRIPTION:Tokyo Shoegazer\nカテゴリ: Indie\, Alternative\, Noise Rock\, Rock\
 , Shoegaze\nリンク: https://www.tokyogigguide.com/index.php?option=com_jem&vi
 ew=event&id=40128:tokyo-shoegazer&Itemid=1094\n
DTSTART:20260419T160000
DTEND:20260419T160000
LOCATION:Koenji High\,4-30-1 Koenji-Minami\,Koenji
SUMMARY:Tokyo Shoegazer
URL:https://www.tokyogigguide.com/index.php?option=com_jem&view=event&id=40
 128:tokyo-shoegazer&Itemid=1094
END:VEVENT
END:VCALENDAR
