BEGIN:VCALENDAR
VERSION:2.0
PRODID:-//104.152.168.27//NONSGML kigkonsult.se iCalcreator 2.20//
CALSCALE:GREGORIAN
METHOD:PUBLISH
X-WR-TIMEZONE:Asia/Tokyo
BEGIN:VEVENT
UID:event40125@Tokyo Gig Guide
DTSTAMP:20260421T075302Z
CATEGORIES:Avant-pop\, Free Jazz\, Instrumental
DESCRIPTION:MoonS: Atsushi Goto (後藤篤) (tb)\, Yoshiyasu Honda (本田祥康) (gt)\, 
 Noriaki Fukushima (福島紀明) (dr)\nカテゴリ: Avant-pop\, Free Jazz\, Instrumental
 \nリンク: https://www.tokyogigguide.com/index.php?option=com_jem&view=event&i
 d=40125:moons-atsushi-goto-yoshiyasu-honda-noriaki-fukusima&Itemid=1094\n
DTSTART:20260314T190000
DTEND:20260314T190000
LOCATION:Clop Clop\,3-39-11 Shouan\, Suginami-ku\, Tokyo\,Nishi-Ogikubo
SUMMARY:MoonS: Atsushi Goto (後藤篤) (tb)\, Yoshiyasu Honda (本田祥康) (gt)\, Nori
 aki Fukushima (福島紀明) (dr)
URL:https://www.tokyogigguide.com/index.php?option=com_jem&view=event&id=40
 125:moons-atsushi-goto-yoshiyasu-honda-noriaki-fukusima&Itemid=1094
END:VEVENT
END:VCALENDAR
