BEGIN:VCALENDAR
VERSION:2.0
PRODID:-//104.152.168.27//NONSGML kigkonsult.se iCalcreator 2.20//
CALSCALE:GREGORIAN
METHOD:PUBLISH
X-WR-TIMEZONE:Asia/Tokyo
BEGIN:VEVENT
UID:event40064@Tokyo Gig Guide
DTSTAMP:20260421T101202Z
CATEGORIES:Avant garde\, Experimental\, Instrumental\, Progressive
DESCRIPTION:ERA Special (Akihisa Tsuboi\, Natsuki Kido\, Hiroyuki Nanba\, K
 enji Sato\, Youichi Okabe)\nカテゴリ: Avant garde\, Experimental\, Instrumenta
 l\, Progressive\nリンク: https://www.tokyogigguide.com/index.php?option=com_j
 em&view=event&id=40064:era-special-akihisa-tsuboi-natsuki-kido-hiroyuki-na
 nba-kenji-sato-youichi-okabe&Itemid=1094\n
DTSTART:20260320T180000
DTEND:20260320T180000
LOCATION:Silver Elephant\,2-10-6 B1\, Kichijoji Honmachi\,Kichijoji
SUMMARY:ERA Special (Akihisa Tsuboi\, Natsuki Kido\, Hiroyuki Nanba\, Kenji
  Sato\, Youichi Okabe)
URL:https://www.tokyogigguide.com/index.php?option=com_jem&view=event&id=40
 064:era-special-akihisa-tsuboi-natsuki-kido-hiroyuki-nanba-kenji-sato-youi
 chi-okabe&Itemid=1094
END:VEVENT
END:VCALENDAR
