BEGIN:VCALENDAR
VERSION:2.0
PRODID:-//104.152.168.27//NONSGML kigkonsult.se iCalcreator 2.20//
CALSCALE:GREGORIAN
METHOD:PUBLISH
X-WR-TIMEZONE:Asia/Tokyo
BEGIN:VEVENT
UID:event40014@Tokyo Gig Guide
DTSTAMP:20260421T042150Z
CATEGORIES:Acoustic\, Alternative\, Ambient\, Folk\, World
DESCRIPTION:Nair Mirabrat\nカテゴリ: Acoustic\, Alternative\, Ambient\, Folk\, 
 World\nリンク: https://www.tokyogigguide.com/index.php?option=com_jem&view=ev
 ent&id=40014:nair-mirabra&Itemid=1094\n
DTSTART:20260314T130000
DTEND:20260314T130000
LOCATION:hako gallery\,Nishihara 3-1-4\, Shibuya-ku\, Tokyo\,Yoyogi-Uehara
SUMMARY:Nair Mirabrat
URL:https://www.tokyogigguide.com/index.php?option=com_jem&view=event&id=40
 014:nair-mirabra&Itemid=1094
END:VEVENT
END:VCALENDAR
