BEGIN:VCALENDAR
VERSION:2.0
PRODID:-//104.152.168.27//NONSGML kigkonsult.se iCalcreator 2.20//
CALSCALE:GREGORIAN
METHOD:PUBLISH
X-WR-TIMEZONE:Asia/Tokyo
BEGIN:VEVENT
UID:event40007@Tokyo Gig Guide
DTSTAMP:20260423T192327Z
CATEGORIES:Rock
DESCRIPTION:Gary Lucas' Gods and Monsters (with Ernie Brooks (B) and Calvin
  Weston (Ds))\nカテゴリ: Rock\nリンク: https://www.tokyogigguide.com/index.php?op
 tion=com_jem&view=event&id=40007:gary-lucas-gods-and-monsters-with-ernie-b
 rooks-b-and-calvin-weston-ds-japan-tour&Itemid=1094\n
DTSTART:20260508T180000
DTEND:20260508T180000
LOCATION:Club Quattro\,5F Parco Quattro\, 32-13 Udagawa-cho\,Shibuya
SUMMARY:Gary Lucas' Gods and Monsters (with Ernie Brooks (B) and Calvin Wes
 ton (Ds))
URL:https://www.tokyogigguide.com/index.php?option=com_jem&view=event&id=40
 007:gary-lucas-gods-and-monsters-with-ernie-brooks-b-and-calvin-weston-ds-
 japan-tour&Itemid=1094
END:VEVENT
END:VCALENDAR
