BEGIN:VCALENDAR
VERSION:2.0
PRODID:-//104.152.168.27//NONSGML kigkonsult.se iCalcreator 2.20//
CALSCALE:GREGORIAN
METHOD:PUBLISH
X-WR-TIMEZONE:Asia/Tokyo
BEGIN:VEVENT
UID:event39988@Tokyo Gig Guide
DTSTAMP:20260422T062442Z
CATEGORIES:Folk\, Guitar Pop\, Indie-Pop\, Indie-Rock
DESCRIPTION:春の五変形セッション\nカテゴリ: Folk\, Guitar Pop\, Indie-Pop\, Indie-Rock\nリ
 ンク: https://www.tokyogigguide.com/index.php?option=com_jem&view=event&id=3
 9988:2026-03-02-13-42-32&Itemid=1094\n
DTSTART:20260423T190000
DTEND:20260423T190000
LOCATION:Hikari No Uma\,B1 1-23-17 Hyakunin-cho\, Shinjuku-ku\, Tokyo\,Okub
 o
SUMMARY:春の五変形セッション
URL:https://www.tokyogigguide.com/index.php?option=com_jem&view=event&id=39
 988:2026-03-02-13-42-32&Itemid=1094
END:VEVENT
END:VCALENDAR
