BEGIN:VCALENDAR
VERSION:2.0
PRODID:-//104.152.168.27//NONSGML kigkonsult.se iCalcreator 2.20//
CALSCALE:GREGORIAN
METHOD:PUBLISH
X-WR-TIMEZONE:Asia/Tokyo
BEGIN:VEVENT
UID:event39899@Tokyo Gig Guide
DTSTAMP:20260419T085955Z
CATEGORIES:Electro\, Electronic\, Experimental\, Improvised
DESCRIPTION:Kokou\, Bloom of Outland\, Yokubari Chameleon.\, Bear Bio Thirt
 een\, Takahata\nカテゴリ: Electro\, Electronic\, Experimental\, Improvised\nリン
 ク: https://www.tokyogigguide.com/index.php?option=com_jem&view=event&id=39
 899:live-kokou-bloom-of-outland-yokubari-chameleon-bear-bio-thirteen-takah
 ata&Itemid=1094\n
DTSTART:20260303T183000
DTEND:20260303T183000
LOCATION:Oriental Force\,#8 Nitto Build. B1\, Koenji-Minami 3-38-6\,Koenji
SUMMARY:Kokou\, Bloom of Outland\, Yokubari Chameleon.\, Bear Bio Thirteen\
 , Takahata
URL:https://www.tokyogigguide.com/index.php?option=com_jem&view=event&id=39
 899:live-kokou-bloom-of-outland-yokubari-chameleon-bear-bio-thirteen-takah
 ata&Itemid=1094
END:VEVENT
END:VCALENDAR
