BEGIN:VCALENDAR
VERSION:2.0
PRODID:-//104.152.168.27//NONSGML kigkonsult.se iCalcreator 2.20//
CALSCALE:GREGORIAN
METHOD:PUBLISH
X-WR-TIMEZONE:Asia/Tokyo
BEGIN:VEVENT
UID:event39893@Tokyo Gig Guide
DTSTAMP:20260424T141706Z
CATEGORIES:Avant garde\, Experimental\, Free Jazz\, Improvised
DESCRIPTION:Miyako Kanazawa & Takenori Saeki\, Rhythm and Atmosphere (Yuki 
 x Ken x Sound Effects)\, MIKI x Yoko Kodama\nカテゴリ: Avant garde\, Experimen
 tal\, Free Jazz\, Improvised\nリンク: https://www.tokyogigguide.com/index.php
 ?option=com_jem&view=event&id=39893:live-miyako-kanazawa-takenori-saeki-rh
 ythm-and-atmosphere-yuki-x-ken-x-sound-effects-miki-x-yoko-kodama&Itemid=1
 094\n
DTSTART:20260324T190000
DTEND:20260324T190000
LOCATION:Oriental Force\,#8 Nitto Build. B1\, Koenji-Minami 3-38-6\,Koenji
SUMMARY:Miyako Kanazawa & Takenori Saeki\, Rhythm and Atmosphere (Yuki x Ke
 n x Sound Effects)\, MIKI x Yoko Kodama
URL:https://www.tokyogigguide.com/index.php?option=com_jem&view=event&id=39
 893:live-miyako-kanazawa-takenori-saeki-rhythm-and-atmosphere-yuki-x-ken-x
 -sound-effects-miki-x-yoko-kodama&Itemid=1094
END:VEVENT
END:VCALENDAR
