BEGIN:VCALENDAR
VERSION:2.0
PRODID:-//104.152.168.27//NONSGML kigkonsult.se iCalcreator 2.20//
CALSCALE:GREGORIAN
METHOD:PUBLISH
X-WR-TIMEZONE:Asia/Tokyo
BEGIN:VEVENT
UID:event39882@Tokyo Gig Guide
DTSTAMP:20260420T092844Z
CATEGORIES:Alternative\, Grindcore\, Improvised
DESCRIPTION:Mitsuo Sakaguchi (synth\, piano)\, Kentaro Nakao (bass)\, Takaf
 umi Kashiwakura (drums)\nカテゴリ: Alternative\, Grindcore\, Improvised\nリンク: 
 https://www.tokyogigguide.com/index.php?option=com_jem&view=event&id=39882
 :mitsuo-sakaguchi-synth-piano-kentaro-nakao-bass-takafumi-kashiwakura-drum
 s&Itemid=1094\n
DTSTART:20260317T190000
DTEND:20260317T190000
LOCATION:POLARIS\,6-2-10 Minami-Aoyama\, Minato-ku\, Tokyo\,Minami-Aoyama
SUMMARY:Mitsuo Sakaguchi (synth\, piano)\, Kentaro Nakao (bass)\, Takafumi 
 Kashiwakura (drums)
URL:https://www.tokyogigguide.com/index.php?option=com_jem&view=event&id=39
 882:mitsuo-sakaguchi-synth-piano-kentaro-nakao-bass-takafumi-kashiwakura-d
 rums&Itemid=1094
END:VEVENT
END:VCALENDAR
