BEGIN:VCALENDAR
VERSION:2.0
PRODID:-//104.152.168.27//NONSGML kigkonsult.se iCalcreator 2.20//
CALSCALE:GREGORIAN
METHOD:PUBLISH
X-WR-TIMEZONE:Asia/Tokyo
BEGIN:VEVENT
UID:event39858@Tokyo Gig Guide
DTSTAMP:20260423T021658Z
CATEGORIES:Dance\, Free Jazz\, Guitar Pop\, Improvised\, Noise Rock
DESCRIPTION:栗原優 (yuu kurahara)\, 福島“ピート”幹夫 (Mikio Pete Fukushima)\, 川サキ (Ka
 wasaki)\, 小玉陽子 (Yoko Kodama)\, Cody Ruth\, 藤井遼太郎\nカテゴリ: Dance\, Free Jazz\
 , Guitar Pop\, Improvised\, Noise Rock\nリンク: https://www.tokyogigguide.com
 /index.php?option=com_jem&view=event&id=39858:yuu-kurahara-mikio-pete-fuku
 shima-kawasaki-yoko-kodama-cody-ruth-ryotaro-fujii&Itemid=1094\n
DTSTART:20260311T190000
DTEND:20260311T190000
LOCATION:Ten (天)\,Asagaya-kita 2-1-5 B1F\,Asagaya
SUMMARY:栗原優 (yuu kurahara)\, 福島“ピート”幹夫 (Mikio Pete Fukushima)\, 川サキ (Kawasa
 ki)\, 小玉陽子 (Yoko Kodama)\, Cody Ruth\, 藤井遼太郎
URL:https://www.tokyogigguide.com/index.php?option=com_jem&view=event&id=39
 858:yuu-kurahara-mikio-pete-fukushima-kawasaki-yoko-kodama-cody-ruth-ryota
 ro-fujii&Itemid=1094
END:VEVENT
END:VCALENDAR
