BEGIN:VCALENDAR
VERSION:2.0
PRODID:-//104.152.168.27//NONSGML kigkonsult.se iCalcreator 2.20//
CALSCALE:GREGORIAN
METHOD:PUBLISH
X-WR-TIMEZONE:Asia/Tokyo
BEGIN:VEVENT
UID:event39854@Tokyo Gig Guide
DTSTAMP:20260419T170903Z
CATEGORIES:Avant garde\, Electro\, Experimental\, Krautrock\, Progressive
DESCRIPTION:イルリピト(iLLRiPiT)\,今井和雄・望月芳哲・本田珠也(Kazuo Imai\,Yoshinori Mochizuki
 \,Tamaya Honda)\,でらくし(DERAKUSHI) \nカテゴリ: Avant garde\, Electro\, Experimen
 tal\, Krautrock\, Progressive\nリンク: https://www.tokyogigguide.com/index.ph
 p?option=com_jem&view=event&id=39854:illripit-kazuo-imai-yoshinori-mochizu
 ki-tamaya-honda-derakushi&Itemid=1094\n
DTSTART:20260225T190000
DTEND:20260225T190000
LOCATION:Earthdom\,Lisbon Bldg B1F\, 3-32-3 Okubo\, Shinjuku-ku\,Okubo
SUMMARY:イルリピト(iLLRiPiT)\,今井和雄・望月芳哲・本田珠也(Kazuo Imai\,Yoshinori Mochizuki\,Ta
 maya Honda)\,でらくし(DERAKUSHI) 
URL:https://www.tokyogigguide.com/index.php?option=com_jem&view=event&id=39
 854:illripit-kazuo-imai-yoshinori-mochizuki-tamaya-honda-derakushi&Itemid=
 1094
END:VEVENT
END:VCALENDAR
