BEGIN:VCALENDAR
VERSION:2.0
PRODID:-//104.152.168.27//NONSGML kigkonsult.se iCalcreator 2.20//
CALSCALE:GREGORIAN
METHOD:PUBLISH
X-WR-TIMEZONE:Asia/Tokyo
BEGIN:VEVENT
UID:event39851@Tokyo Gig Guide
DTSTAMP:20260423T222813Z
CATEGORIES:Alternative\, Noise Rock\, Post-Punk\, Post-Rock\, Shoegaze
DESCRIPTION:ザミロクラヴ\, Disappeared like a fog\, din remoter\, p.9999\, COLLAP
 SE\, 川と砂利道\nカテゴリ: Alternative\, Noise Rock\, Post-Punk\, Post-Rock\, Shoeg
 aze\nリンク: https://www.tokyogigguide.com/index.php?option=com_jem&view=even
 t&id=39851:disappeared-like-a-fog-din-remoter-p-9999-collapse&Itemid=1094
 \n
DTSTART:20260308T170000
DTEND:20260308T170000
LOCATION:Chop (Shutou)\,Sheema100 B1\, 2-46-3 Ikebukuro\,Ikebukuro
SUMMARY:ザミロクラヴ\, Disappeared like a fog\, din remoter\, p.9999\, COLLAPSE\,
  川と砂利道
URL:https://www.tokyogigguide.com/index.php?option=com_jem&view=event&id=39
 851:disappeared-like-a-fog-din-remoter-p-9999-collapse&Itemid=1094
END:VEVENT
END:VCALENDAR
