BEGIN:VCALENDAR
VERSION:2.0
PRODID:-//104.152.168.27//NONSGML kigkonsult.se iCalcreator 2.20//
CALSCALE:GREGORIAN
METHOD:PUBLISH
X-WR-TIMEZONE:Asia/Tokyo
BEGIN:VEVENT
UID:event39833@Tokyo Gig Guide
DTSTAMP:20260425T150135Z
CATEGORIES:Rock
DESCRIPTION:Domestic Mita Band (Mita Freeman (g\, vo)\, Yukie (g\, vo)) and
  Improvstan (Mita Freeman (g\, etc)\, Jun Numata (g\, etc))\nカテゴリ: Rock\nリ
 ンク: https://www.tokyogigguide.com/index.php?option=com_jem&view=event&id=3
 9833:domestic-mita-band-mita-freeman-g-vo-yukie-g-vo-and-improvstan-mita-f
 reeman-g-etc-jun-numata-g-etc&Itemid=1094\n
DTSTART:20260313T193000
DTEND:20260313T193000
LOCATION:Bar Isshee\,3-36-11-B1\, Sendagi\, Bunkyo-ku\,Sendagi
SUMMARY:Domestic Mita Band (Mita Freeman (g\, vo)\, Yukie (g\, vo)) and Imp
 rovstan (Mita Freeman (g\, etc)\, Jun Numata (g\, etc))
URL:https://www.tokyogigguide.com/index.php?option=com_jem&view=event&id=39
 833:domestic-mita-band-mita-freeman-g-vo-yukie-g-vo-and-improvstan-mita-fr
 eeman-g-etc-jun-numata-g-etc&Itemid=1094
END:VEVENT
END:VCALENDAR
