BEGIN:VCALENDAR
VERSION:2.0
PRODID:-//104.152.168.27//NONSGML kigkonsult.se iCalcreator 2.20//
CALSCALE:GREGORIAN
METHOD:PUBLISH
X-WR-TIMEZONE:Asia/Tokyo
BEGIN:VEVENT
UID:event39823@Tokyo Gig Guide
DTSTAMP:20260420T004813Z
CATEGORIES:Alternative\, Avant garde\, Free Jazz\, Hip-Hop\, Rock
DESCRIPTION:VARRISPEEDS\, 学生実験室\, vajuwaju\, MUSQIS\nカテゴリ: Alternative\, Av
 ant garde\, Free Jazz\, Hip-Hop\, Rock\nリンク: https://www.tokyogigguide.com
 /index.php?option=com_jem&view=event&id=39823:varrispeeds-vajuwaju-musqis&
 Itemid=1094\n
DTSTART:20260419T180000
DTEND:20260419T180000
LOCATION:RiNen\,B1F Wasedamachi 74\, Shinjuku-ku\, Tokyo\,Waseda
SUMMARY:VARRISPEEDS\, 学生実験室\, vajuwaju\, MUSQIS
URL:https://www.tokyogigguide.com/index.php?option=com_jem&view=event&id=39
 823:varrispeeds-vajuwaju-musqis&Itemid=1094
END:VEVENT
END:VCALENDAR
