BEGIN:VCALENDAR
VERSION:2.0
PRODID:-//104.152.168.27//NONSGML kigkonsult.se iCalcreator 2.20//
CALSCALE:GREGORIAN
METHOD:PUBLISH
X-WR-TIMEZONE:Asia/Tokyo
BEGIN:VEVENT
UID:event39770@Tokyo Gig Guide
DTSTAMP:20260423T040919Z
CATEGORIES:Avant garde\, Free Jazz\, Improvised\, World\, Acoustic
DESCRIPTION:Takero Sekijima\, Kanji Nakao\, Kaori Komura\nカテゴリ: Avant garde
 \, Free Jazz\, Improvised\, World\, Acoustic\nリンク: https://www.tokyogiggui
 de.com/index.php?option=com_jem&view=event&id=39770:takero-sekijima-kanji-
 nakao-kaori-komura&Itemid=1094\n
DTSTART:20260225T193000
DTEND:20260225T193000
LOCATION:In-F\,3F 3-4-19 higashiooizumi\, nerima-ku\, Tokyo\,Oizumigakuen
SUMMARY:Takero Sekijima\, Kanji Nakao\, Kaori Komura
URL:https://www.tokyogigguide.com/index.php?option=com_jem&view=event&id=39
 770:takero-sekijima-kanji-nakao-kaori-komura&Itemid=1094
END:VEVENT
END:VCALENDAR
