BEGIN:VCALENDAR
VERSION:2.0
PRODID:-//104.152.168.27//NONSGML kigkonsult.se iCalcreator 2.20//
CALSCALE:GREGORIAN
METHOD:PUBLISH
X-WR-TIMEZONE:Asia/Tokyo
BEGIN:VEVENT
UID:event39746@Tokyo Gig Guide
DTSTAMP:20260424T130847Z
CATEGORIES:Art-Pop\, DJ\, Electro\, Electronic\, Hip-Hop
DESCRIPTION:METEOR\, Model: Cyclings\, Tindonk\, Yuki Watanabe\, Anna\, mor
 e\nカテゴリ: Art-Pop\, DJ\, Electro\, Electronic\, Hip-Hop\nリンク: https://www.t
 okyogigguide.com/index.php?option=com_jem&view=event&id=39746:live-meteor-
 model-cyclings-tindonk-yuki-watanabe-anna-more&Itemid=1094\n
DTSTART:20260314T153000
DTEND:20260314T153000
LOCATION:Oriental Force\,#8 Nitto Build. B1\, Koenji-Minami 3-38-6\,Koenji
SUMMARY:METEOR\, Model: Cyclings\, Tindonk\, Yuki Watanabe\, Anna\, more
URL:https://www.tokyogigguide.com/index.php?option=com_jem&view=event&id=39
 746:live-meteor-model-cyclings-tindonk-yuki-watanabe-anna-more&Itemid=1094
END:VEVENT
END:VCALENDAR
