BEGIN:VCALENDAR
VERSION:2.0
PRODID:-//104.152.168.27//NONSGML kigkonsult.se iCalcreator 2.20//
CALSCALE:GREGORIAN
METHOD:PUBLISH
X-WR-TIMEZONE:Asia/Tokyo
BEGIN:VEVENT
UID:event39729@Tokyo Gig Guide
DTSTAMP:20260425T192758Z
CATEGORIES:Abstract\, Electronic\, Experimental\, Improvised
DESCRIPTION:Scot Jenerik (from US)\, Leipold/Perret/Turner (from Berlin)\, 
 Sofheso\, VANISHING VILLAIN\, Manabe\, Messy T\nカテゴリ: Abstract\, Electroni
 c\, Experimental\, Improvised\nリンク: https://www.tokyogigguide.com/index.ph
 p?option=com_jem&view=event&id=39729:scot-jenerik-from-us-leipold-perret-t
 urner-from-berlin-sofheso-vanishing-villain-manabe-messy-t&Itemid=1094\n
DTSTART:20260417T193000
DTEND:20260417T193000
LOCATION:Forestlimit\,B1F Hatagaya KODA Bldg\, 2-8-15 Hatagaya\, Shibuyaku\
 ,Hatagaya
SUMMARY:Scot Jenerik (from US)\, Leipold/Perret/Turner (from Berlin)\, Sofh
 eso\, VANISHING VILLAIN\, Manabe\, Messy T
URL:https://www.tokyogigguide.com/index.php?option=com_jem&view=event&id=39
 729:scot-jenerik-from-us-leipold-perret-turner-from-berlin-sofheso-vanishi
 ng-villain-manabe-messy-t&Itemid=1094
END:VEVENT
END:VCALENDAR
