BEGIN:VCALENDAR
VERSION:2.0
PRODID:-//104.152.168.27//NONSGML kigkonsult.se iCalcreator 2.20//
CALSCALE:GREGORIAN
METHOD:PUBLISH
X-WR-TIMEZONE:Asia/Tokyo
BEGIN:VEVENT
UID:event39657@Tokyo Gig Guide
DTSTAMP:20260420T075616Z
CATEGORIES:Alternative\, Dream-pop\, Funk\, Indie-Rock\, Post-Punk
DESCRIPTION:mugbum\, Badger's Dream\, SHISEI\, oookay!!!\, the posis\nカテゴリ:
  Alternative\, Dream-pop\, Funk\, Indie-Rock\, Post-Punk\nリンク: https://www
 .tokyogigguide.com/index.php?option=com_jem&view=event&id=39657:mugbum-bad
 ger-s-dream-shisei-oookay-the-posis&Itemid=1094\n
DTSTART:20260321T173000
DTEND:20260321T173000
LOCATION:Hisomine\,Miyaharacho 2-7-12 1F\, Saitama\,Omiya
SUMMARY:mugbum\, Badger's Dream\, SHISEI\, oookay!!!\, the posis
URL:https://www.tokyogigguide.com/index.php?option=com_jem&view=event&id=39
 657:mugbum-badger-s-dream-shisei-oookay-the-posis&Itemid=1094
END:VEVENT
END:VCALENDAR
