BEGIN:VCALENDAR
VERSION:2.0
PRODID:-//104.152.168.27//NONSGML kigkonsult.se iCalcreator 2.20//
CALSCALE:GREGORIAN
METHOD:PUBLISH
X-WR-TIMEZONE:Asia/Tokyo
BEGIN:VEVENT
UID:event39646@Tokyo Gig Guide
DTSTAMP:20260423T043148Z
CATEGORIES:Avant garde\, Electronic\, Experimental\, Improvised\, Instrumen
 tal
DESCRIPTION:hamachi (percussion) / Masahide Tokunaga (alto sax) / Leo Okaga
 wa (electronics)\nカテゴリ: Avant garde\, Electronic\, Experimental\, Improvis
 ed\, Instrumental\nリンク: https://www.tokyogigguide.com/index.php?option=com
 _jem&view=event&id=39646:hamachi-percussion-masahide-tokunaga-alto-sax-leo
 -okagawa-electronics&Itemid=1094\n
DTSTART:20260208T193000
DTEND:20260208T193000
LOCATION:Ftarri\,Okano Bld.B1\, 1-4-11\, Hongo\, Bunkyo-ku\, Tokyo\,Suidoba
 shi
SUMMARY:hamachi (percussion) / Masahide Tokunaga (alto sax) / Leo Okagawa (
 electronics)
URL:https://www.tokyogigguide.com/index.php?option=com_jem&view=event&id=39
 646:hamachi-percussion-masahide-tokunaga-alto-sax-leo-okagawa-electronics&
 Itemid=1094
END:VEVENT
END:VCALENDAR
