BEGIN:VCALENDAR
VERSION:2.0
PRODID:-//104.152.168.27//NONSGML kigkonsult.se iCalcreator 2.20//
CALSCALE:GREGORIAN
METHOD:PUBLISH
X-WR-TIMEZONE:Asia/Tokyo
BEGIN:VEVENT
UID:event39640@Tokyo Gig Guide
DTSTAMP:20260423T014427Z
CATEGORIES:Improvised
DESCRIPTION:Manabu Suzuki (electronics) + Masayo Koketsu (sax) + Kirsten Ca
 rey (g)\nカテゴリ: Improvised\nリンク: https://www.tokyogigguide.com/index.php?op
 tion=com_jem&view=event&id=39640:manabu-suzuki-electronics-masayo-koketsu-
 sax-kirsten-carey-g&Itemid=1094\n
DTSTART:20260320T183000
DTEND:20260320T183000
LOCATION:Bar Isshee\,3-36-11-B1\, Sendagi\, Bunkyo-ku\,Sendagi
SUMMARY:Manabu Suzuki (electronics) + Masayo Koketsu (sax) + Kirsten Carey 
 (g)
URL:https://www.tokyogigguide.com/index.php?option=com_jem&view=event&id=39
 640:manabu-suzuki-electronics-masayo-koketsu-sax-kirsten-carey-g&Itemid=10
 94
END:VEVENT
END:VCALENDAR
