BEGIN:VCALENDAR
VERSION:2.0
PRODID:-//104.152.168.27//NONSGML kigkonsult.se iCalcreator 2.20//
CALSCALE:GREGORIAN
METHOD:PUBLISH
X-WR-TIMEZONE:Asia/Tokyo
BEGIN:VEVENT
UID:event39634@Tokyo Gig Guide
DTSTAMP:20260419T221729Z
CATEGORIES:Acoustic\, Avant garde\, Classical\, Electronic\, Experimental
DESCRIPTION:Electrified Expansion: Kosei Murata\, Hiromune Ishii\, Masamich
 i Kinoshita\nカテゴリ: Acoustic\, Avant garde\, Classical\, Electronic\, Exper
 imental\nリンク: https://www.tokyogigguide.com/index.php?option=com_jem&view=
 event&id=39634:electrified-expansion-ftarri&Itemid=1094\n
DTSTART:20260329T193000
DTEND:20260329T193000
LOCATION:Ftarri\,Okano Bld.B1\, 1-4-11\, Hongo\, Bunkyo-ku\, Tokyo\,Suidoba
 shi
SUMMARY:Electrified Expansion: Kosei Murata\, Hiromune Ishii\, Masamichi Ki
 noshita
URL:https://www.tokyogigguide.com/index.php?option=com_jem&view=event&id=39
 634:electrified-expansion-ftarri&Itemid=1094
END:VEVENT
END:VCALENDAR
