BEGIN:VCALENDAR
VERSION:2.0
PRODID:-//104.152.168.27//NONSGML kigkonsult.se iCalcreator 2.20//
CALSCALE:GREGORIAN
METHOD:PUBLISH
X-WR-TIMEZONE:Asia/Tokyo
BEGIN:VEVENT
UID:event39581@Tokyo Gig Guide
DTSTAMP:20260421T022253Z
CATEGORIES:Noise Rock
DESCRIPTION:Barren Womb (NOR)\, Snub (AUS)\, Hylko\, Pandagolf\, KegaWarash
 i\, THE DEAD PAN SPEAKERS\nカテゴリ: Noise Rock\nリンク: https://www.tokyogigguid
 e.com/index.php?option=com_jem&view=event&id=39581:barren-womb-nor-snub-au
 s-hylko-pandagolf-kegawarashi-the-dead-pan-speakers&Itemid=1094\n
DTSTART:20260425T153000
DTEND:20260425T153000
LOCATION:El Puente\,B1 8-8 Nishihiranumacho\, Nishi-ku\, Yokohama\,Yokohama
SUMMARY:Barren Womb (NOR)\, Snub (AUS)\, Hylko\, Pandagolf\, KegaWarashi\, 
 THE DEAD PAN SPEAKERS
URL:https://www.tokyogigguide.com/index.php?option=com_jem&view=event&id=39
 581:barren-womb-nor-snub-aus-hylko-pandagolf-kegawarashi-the-dead-pan-spea
 kers&Itemid=1094
END:VEVENT
END:VCALENDAR
