BEGIN:VCALENDAR
VERSION:2.0
PRODID:-//104.152.168.27//NONSGML kigkonsult.se iCalcreator 2.20//
CALSCALE:GREGORIAN
METHOD:PUBLISH
X-WR-TIMEZONE:Asia/Tokyo
BEGIN:VEVENT
UID:event39574@Tokyo Gig Guide
DTSTAMP:20260421T084059Z
CATEGORIES:Ambient\, Avant garde\, Experimental\, Improvised
DESCRIPTION:Kirsten Carey\, Naoyasu Takahashi\nカテゴリ: Ambient\, Avant garde\
 , Experimental\, Improvised\nリンク: https://www.tokyogigguide.com/index.php?
 option=com_jem&view=event&id=39574:kirsten-carey-naoyasu-takahashi&Itemid=
 1094\n
DTSTART:20260321T190000
DTEND:20260321T190000
LOCATION:space o\,Sugizaki Bld. B1\, Chihaya 4-39-5\, Toshima-ku\,Senkawa
SUMMARY:Kirsten Carey\, Naoyasu Takahashi
URL:https://www.tokyogigguide.com/index.php?option=com_jem&view=event&id=39
 574:kirsten-carey-naoyasu-takahashi&Itemid=1094
END:VEVENT
END:VCALENDAR
