BEGIN:VCALENDAR
VERSION:2.0
PRODID:-//104.152.168.27//NONSGML kigkonsult.se iCalcreator 2.20//
CALSCALE:GREGORIAN
METHOD:PUBLISH
X-WR-TIMEZONE:Asia/Tokyo
BEGIN:VEVENT
UID:event39530@Tokyo Gig Guide
DTSTAMP:20260423T224238Z
CATEGORIES:Rock
DESCRIPTION:Days\, near LAND\, DUAL CREED\, トラケミスト\, MANATY\, LOILO\, Rummy
  Nose Tetra\, CrossSign\, UNITED MONKEYS\nカテゴリ: Rock\nリンク: https://www.tok
 yogigguide.com/index.php?option=com_jem&view=event&id=39530:days-near-land
 -dual-creed-manaty-loilo-rummy-nose-tetra-crosssign-united-monkeys&Itemid=
 1094\n
DTSTART:20260129T163000
DTEND:20260129T163000
LOCATION:Zirco Tokyo\,1 Chome-2-5 Kabukichō\,160-0021\,Shinjuku
SUMMARY:Days\, near LAND\, DUAL CREED\, トラケミスト\, MANATY\, LOILO\, Rummy Nos
 e Tetra\, CrossSign\, UNITED MONKEYS
URL:https://www.tokyogigguide.com/index.php?option=com_jem&view=event&id=39
 530:days-near-land-dual-creed-manaty-loilo-rummy-nose-tetra-crosssign-unit
 ed-monkeys&Itemid=1094
END:VEVENT
END:VCALENDAR
