BEGIN:VCALENDAR
VERSION:2.0
PRODID:-//104.152.168.27//NONSGML kigkonsult.se iCalcreator 2.20//
CALSCALE:GREGORIAN
METHOD:PUBLISH
X-WR-TIMEZONE:Asia/Tokyo
BEGIN:VEVENT
UID:event39465@Tokyo Gig Guide
DTSTAMP:20260426T004545Z
CATEGORIES:Avant garde\, Experimental\, Improvised\, Rock
DESCRIPTION:Natsuki Kido\, a_kira\, Kenji Sato\, Tatsuya Yoshida\nカテゴリ: Ava
 nt garde\, Experimental\, Improvised\, Rock\nリンク: https://www.tokyogigguid
 e.com/index.php?option=com_jem&view=event&id=39465:natsuki-kido-a-kira-ken
 ji-sato-tatsuya-yoshida&Itemid=1094\n
DTSTART:20260329T183000
DTEND:20260329T183000
LOCATION:Goodman\,A.S Building B1F\, 55\, Kanda-Sakumagashi\, Chiyodaku\,Ak
 ihabara
SUMMARY:Natsuki Kido\, a_kira\, Kenji Sato\, Tatsuya Yoshida
URL:https://www.tokyogigguide.com/index.php?option=com_jem&view=event&id=39
 465:natsuki-kido-a-kira-kenji-sato-tatsuya-yoshida&Itemid=1094
END:VEVENT
END:VCALENDAR
