BEGIN:VCALENDAR
VERSION:2.0
PRODID:-//104.152.168.27//NONSGML kigkonsult.se iCalcreator 2.20//
CALSCALE:GREGORIAN
METHOD:PUBLISH
X-WR-TIMEZONE:Asia/Tokyo
BEGIN:VEVENT
UID:event39454@Tokyo Gig Guide
DTSTAMP:20260424T023459Z
CATEGORIES:Pop-punk\, Punk\, Rock\, Rock n Roll
DESCRIPTION:Johnny Pandora\, DOG PARTY (USA)\, 首振りDolls\, URAMONES \nカテゴリ: 
 Pop-punk\, Punk\, Rock\, Rock n Roll\nリンク: https://www.tokyogigguide.com/i
 ndex.php?option=com_jem&view=event&id=39454:johnny-pandora-dog-party-usa-d
 olls-uramones&Itemid=1094\n
DTSTART:20260129T174500
DTEND:20260129T174500
LOCATION:TOP BEAT CLUB\,1-15-1\, Shimizu\, Suginami-ku\, Tokyo\,Ogikubo
SUMMARY:Johnny Pandora\, DOG PARTY (USA)\, 首振りDolls\, URAMONES 
URL:https://www.tokyogigguide.com/index.php?option=com_jem&view=event&id=39
 454:johnny-pandora-dog-party-usa-dolls-uramones&Itemid=1094
END:VEVENT
END:VCALENDAR
