BEGIN:VCALENDAR
VERSION:2.0
PRODID:-//104.152.168.27//NONSGML kigkonsult.se iCalcreator 2.20//
CALSCALE:GREGORIAN
METHOD:PUBLISH
X-WR-TIMEZONE:Asia/Tokyo
BEGIN:VEVENT
UID:event39350@Tokyo Gig Guide
DTSTAMP:20260420T000442Z
CATEGORIES:Alternative\, Electronic\, Experimental
DESCRIPTION:Momose Yasunaga (Modular\, 朗読)\, Miya (Modular Flute)\, Mitsuru
  Nasuno (Bass)\nカテゴリ: Alternative\, Electronic\, Experimental\nリンク: https:
 //www.tokyogigguide.com/index.php?option=com_jem&view=event&id=39350:momos
 e-yasunaga-modular-miya-modular-flute-mitsuru-nasuno-bass&Itemid=1094\n
DTSTART:20260326T190000
DTEND:20260326T190000
LOCATION:Gekkasha\,1F 3-5 Jinbocho\, Chiyodaku\, Tokyo\,Jinbocho
SUMMARY:Momose Yasunaga (Modular\, 朗読)\, Miya (Modular Flute)\, Mitsuru Nas
 uno (Bass)
URL:https://www.tokyogigguide.com/index.php?option=com_jem&view=event&id=39
 350:momose-yasunaga-modular-miya-modular-flute-mitsuru-nasuno-bass&Itemid=
 1094
END:VEVENT
END:VCALENDAR
