BEGIN:VCALENDAR
VERSION:2.0
PRODID:-//104.152.168.27//NONSGML kigkonsult.se iCalcreator 2.20//
CALSCALE:GREGORIAN
METHOD:PUBLISH
X-WR-TIMEZONE:Asia/Tokyo
BEGIN:VEVENT
UID:event39277@Tokyo Gig Guide
DTSTAMP:20260424T232302Z
CATEGORIES:Free Jazz\, Improvised\, Experimental\, Avant garde
DESCRIPTION:Otzir Godot\, Waka Fuzuki\, Junji Mori\, Wataru Yamashita\, Nao
 yasu Takahashi\nカテゴリ: Free Jazz\, Improvised\, Experimental\, Avant garde
 \nリンク: https://www.tokyogigguide.com/index.php?option=com_jem&view=event&i
 d=39277:otzir-godot-waka-fuzuki-junji-mori-wataru-yamashita-naoyasu-takaha
 shi&Itemid=1094\n
DTSTART:20260603T190000
DTEND:20260603T190000
LOCATION:Flying Teapot\,Enomoto Bldg B1F\, 27-7 Sakae-cho\, Nerima-ku\,Ekod
 a
SUMMARY:Otzir Godot\, Waka Fuzuki\, Junji Mori\, Wataru Yamashita\, Naoyasu
  Takahashi
URL:https://www.tokyogigguide.com/index.php?option=com_jem&view=event&id=39
 277:otzir-godot-waka-fuzuki-junji-mori-wataru-yamashita-naoyasu-takahashi&
 Itemid=1094
END:VEVENT
END:VCALENDAR
