BEGIN:VCALENDAR
VERSION:2.0
PRODID:-//104.152.168.27//NONSGML kigkonsult.se iCalcreator 2.20//
CALSCALE:GREGORIAN
METHOD:PUBLISH
X-WR-TIMEZONE:Asia/Tokyo
BEGIN:VEVENT
UID:event39226@Tokyo Gig Guide
DTSTAMP:20260424T121341Z
CATEGORIES:Art-Pop\, Electro\, Electronic\, Experimental
DESCRIPTION:Alvin\, Anna\, Matsutanura \, UCCHI \,  Murakami Roki\, Motomu 
 Miura\nカテゴリ: Art-Pop\, Electro\, Electronic\, Experimental\nリンク: https://w
 ww.tokyogigguide.com/index.php?option=com_jem&view=event&id=39226:live-alv
 in-anna-matsutanura-murakami-roki-motomu-miura&Itemid=1094\n
DTSTART:20260130T180000
DTEND:20260130T180000
LOCATION:Oriental Force\,#8 Nitto Build. B1\, Koenji-Minami 3-38-6\,Koenji
SUMMARY:Alvin\, Anna\, Matsutanura \, UCCHI \,  Murakami Roki\, Motomu Miur
 a
URL:https://www.tokyogigguide.com/index.php?option=com_jem&view=event&id=39
 226:live-alvin-anna-matsutanura-murakami-roki-motomu-miura&Itemid=1094
END:VEVENT
END:VCALENDAR
