BEGIN:VCALENDAR
VERSION:2.0
PRODID:-//104.152.168.27//NONSGML kigkonsult.se iCalcreator 2.20//
CALSCALE:GREGORIAN
METHOD:PUBLISH
X-WR-TIMEZONE:Asia/Tokyo
BEGIN:VEVENT
UID:event39223@Tokyo Gig Guide
DTSTAMP:20260421T034252Z
CATEGORIES:Experimental\, Free Jazz\, Improvised\, Jazz\, Rock
DESCRIPTION:NEW GAKEPPUCHI SESSION: RUIKE SHINPEI\, IMAHORI TSUNEO\, HAYAKA
 WA TAKEHARU\, FUJIKAKE MASATAKA\nカテゴリ: Experimental\, Free Jazz\, Improvis
 ed\, Jazz\, Rock\nリンク: https://www.tokyogigguide.com/index.php?option=com_
 jem&view=event&id=39223:new-gakeppuchi-session-ruike-shinpei-imahori-tsune
 o-hayakawa-takeharu-fujikake-masataka&Itemid=1094\n
DTSTART:20260314T133000
DTEND:20260314T133000
LOCATION:Pit Inn\,Accord Bldg B1\, 2-12-4 Shinjuku\, Shinjuku-ku\,Shinjuku
SUMMARY:NEW GAKEPPUCHI SESSION: RUIKE SHINPEI\, IMAHORI TSUNEO\, HAYAKAWA T
 AKEHARU\, FUJIKAKE MASATAKA
URL:https://www.tokyogigguide.com/index.php?option=com_jem&view=event&id=39
 223:new-gakeppuchi-session-ruike-shinpei-imahori-tsuneo-hayakawa-takeharu-
 fujikake-masataka&Itemid=1094
END:VEVENT
END:VCALENDAR
