BEGIN:VCALENDAR
VERSION:2.0
PRODID:-//104.152.168.27//NONSGML kigkonsult.se iCalcreator 2.20//
CALSCALE:GREGORIAN
METHOD:PUBLISH
X-WR-TIMEZONE:Asia/Tokyo
BEGIN:VEVENT
UID:event39189@Tokyo Gig Guide
DTSTAMP:20260423T024951Z
CATEGORIES:Metal\, Rock
DESCRIPTION:Elvenking\, Valhalore\, The Heathen Scythe\, Ethereal Sin\, All
 egiance Reign\nカテゴリ: Metal\, Rock\nリンク: https://www.tokyogigguide.com/inde
 x.php?option=com_jem&view=event&id=39189:elvenking-valhalore-the-heathen-s
 cythe-ethereal-sin-allegiance-reign&Itemid=1094\n
DTSTART:20260320T160000
DTEND:20260320T160000
LOCATION:AKABANE ReNY alpha\,1-7-9 Akabane\, Kitaku\, Tokyo\,Akabane
SUMMARY:Elvenking\, Valhalore\, The Heathen Scythe\, Ethereal Sin\, Allegia
 nce Reign
URL:https://www.tokyogigguide.com/index.php?option=com_jem&view=event&id=39
 189:elvenking-valhalore-the-heathen-scythe-ethereal-sin-allegiance-reign&I
 temid=1094
END:VEVENT
END:VCALENDAR
