BEGIN:VCALENDAR
VERSION:2.0
PRODID:-//104.152.168.27//NONSGML kigkonsult.se iCalcreator 2.20//
CALSCALE:GREGORIAN
METHOD:PUBLISH
X-WR-TIMEZONE:Asia/Tokyo
BEGIN:VEVENT
UID:event39067@Tokyo Gig Guide
DTSTAMP:20260421T205147Z
CATEGORIES:Ambient\, Avant garde\, Electronic\, Experimental\, Improvised
DESCRIPTION:Philippe-Aubert Gauthier\, Tanya St-Pierre (visuals)\, Cal Lyal
 l\, Nekomachi\, Onnacodomo (visuals)\,  Nicola Giannini\nカテゴリ: Ambient\, A
 vant garde\, Electronic\, Experimental\, Improvised\nリンク: https://www.toky
 ogigguide.com/index.php?option=com_jem&view=event&id=39067:philippe-aubert
 -gauthier-tanya-st-pierre-visuals-cal-lyall-nekomachi-onnacodomo-visuals-n
 icola-giannini&Itemid=1094\n
DTSTART:20260124T183000
DTEND:20260124T183000
LOCATION:hako gallery\,Nishihara 3-1-4\, Shibuya-ku\, Tokyo\,Yoyogi-Uehara
SUMMARY:Philippe-Aubert Gauthier\, Tanya St-Pierre (visuals)\, Cal Lyall\, 
 Nekomachi\, Onnacodomo (visuals)\,  Nicola Giannini
URL:https://www.tokyogigguide.com/index.php?option=com_jem&view=event&id=39
 067:philippe-aubert-gauthier-tanya-st-pierre-visuals-cal-lyall-nekomachi-o
 nnacodomo-visuals-nicola-giannini&Itemid=1094
END:VEVENT
END:VCALENDAR
