BEGIN:VCALENDAR
VERSION:2.0
PRODID:-//104.152.168.27//NONSGML kigkonsult.se iCalcreator 2.20//
CALSCALE:GREGORIAN
METHOD:PUBLISH
X-WR-TIMEZONE:Asia/Tokyo
BEGIN:VEVENT
UID:event3879@Tokyo Gig Guide
DTSTAMP:20260421T180644Z
CATEGORIES:Punk
DESCRIPTION:A Bad Noise Christmas! Bo-Peep\, Mix Market\, The Aginers\nカテゴリ
 : Punk\nリンク: https://www.tokyogigguide.com/index.php?option=com_jem&view=e
 vent&id=3879:a-bad-noise-christmas-bo-peep-mix-market-the-aginers&Itemid=1
 094\n
DTSTART:20101218T193000
DTEND:20101218T193000
LOCATION:Ruby Room\,2F Kasumi Bldg\, Dogenzaka 2-25-17\, Shibuya\,Shibuya
SUMMARY:A Bad Noise Christmas! Bo-Peep\, Mix Market\, The Aginers
URL:https://www.tokyogigguide.com/index.php?option=com_jem&view=event&id=38
 79:a-bad-noise-christmas-bo-peep-mix-market-the-aginers&Itemid=1094
END:VEVENT
END:VCALENDAR
