BEGIN:VCALENDAR
VERSION:2.0
PRODID:-//104.152.168.27//NONSGML kigkonsult.se iCalcreator 2.20//
CALSCALE:GREGORIAN
METHOD:PUBLISH
X-WR-TIMEZONE:Asia/Tokyo
BEGIN:VEVENT
UID:event3852@Tokyo Gig Guide
DTSTAMP:20260425T112436Z
CATEGORIES:Improvised
DESCRIPTION:ino + chino + imai (井野・千野・今井)\nカテゴリ: Improvised\nリンク: https://w
 ww.tokyogigguide.com/index.php?option=com_jem&view=event&id=3852:ino--chin
 o--imai-&Itemid=1094\n
DTSTART:20101219T190000
DTEND:20101219T190000
LOCATION:ZIMAGINE\,6-2-13-B1 Minami-Aoyama\, Minato-ku\, Tokyo\,Omotesando
SUMMARY:ino + chino + imai (井野・千野・今井)
URL:https://www.tokyogigguide.com/index.php?option=com_jem&view=event&id=38
 52:ino--chino--imai-&Itemid=1094
END:VEVENT
END:VCALENDAR
