BEGIN:VCALENDAR
VERSION:2.0
PRODID:-//104.152.168.27//NONSGML kigkonsult.se iCalcreator 2.20//
CALSCALE:GREGORIAN
METHOD:PUBLISH
X-WR-TIMEZONE:Asia/Tokyo
BEGIN:VEVENT
UID:event38428@Tokyo Gig Guide
DTSTAMP:20260422T202420Z
CATEGORIES:All Mix\, Art\, Dance\, Punk\, Rock n Roll
DESCRIPTION:Vaiwatt\, FVRMN\, Sworn to Avenge\, Dead Happy\, Aztec Brides\,
  Native Broadcast\, meeep\, WANMINI\, The Spilt Ink\, DJ timothy\nカテゴリ: Al
 l Mix\, Art\, Dance\, Punk\, Rock n Roll\nリンク: https://www.tokyogigguide.c
 om/index.php?option=com_jem&view=event&id=38428:vaiwatt-fvrmn-sworn-to-ave
 nge-dead-happy-aztec-brides-native-broadcast-meeep-wanmini-the-spilt-ink-d
 j-timothy&Itemid=1094\n
DTSTART:20251130T143000
DTEND:20251130T143000
LOCATION:Loft\,Tatehana Building\, B2 1-12-9 kabukicho\, Shinjuku\,Shinjuku
SUMMARY:Vaiwatt\, FVRMN\, Sworn to Avenge\, Dead Happy\, Aztec Brides\, Nat
 ive Broadcast\, meeep\, WANMINI\, The Spilt Ink\, DJ timothy
URL:https://www.tokyogigguide.com/index.php?option=com_jem&view=event&id=38
 428:vaiwatt-fvrmn-sworn-to-avenge-dead-happy-aztec-brides-native-broadcast
 -meeep-wanmini-the-spilt-ink-dj-timothy&Itemid=1094
END:VEVENT
END:VCALENDAR
