BEGIN:VCALENDAR
VERSION:2.0
PRODID:-//104.152.168.27//NONSGML kigkonsult.se iCalcreator 2.20//
CALSCALE:GREGORIAN
METHOD:PUBLISH
X-WR-TIMEZONE:Asia/Tokyo
BEGIN:VEVENT
UID:event38369@Tokyo Gig Guide
DTSTAMP:20260421T084958Z
CATEGORIES:Improvised
DESCRIPTION:水晶の舟 (Suishou No Fune)\nカテゴリ: Improvised\nリンク: https://www.toky
 ogigguide.com/index.php?option=com_jem&view=event&id=38369:suishou-no-fune
 &Itemid=1094\n
DTSTART:20251122T180000
DTEND:20251122T180000
LOCATION:黒猫茶房\,東京都杉並区阿佐谷北2-4-2\,Asagaya
SUMMARY:水晶の舟 (Suishou No Fune)
URL:https://www.tokyogigguide.com/index.php?option=com_jem&view=event&id=38
 369:suishou-no-fune&Itemid=1094
END:VEVENT
END:VCALENDAR
