BEGIN:VCALENDAR
VERSION:2.0
PRODID:-//104.152.168.27//NONSGML kigkonsult.se iCalcreator 2.20//
CALSCALE:GREGORIAN
METHOD:PUBLISH
X-WR-TIMEZONE:Asia/Tokyo
BEGIN:VEVENT
UID:event38245@Tokyo Gig Guide
DTSTAMP:20260423T222926Z
CATEGORIES:Ambient\, Avant garde\, Dub\, Experimental\, Improvised
DESCRIPTION:Dub Antimatters (Yasushi Ishikawa\, Naoyasu Takahashi\, Arata O
 gawa\, DTchainsaw)\nカテゴリ: Ambient\, Avant garde\, Dub\, Experimental\, Imp
 rovised\nリンク: https://www.tokyogigguide.com/index.php?option=com_jem&view=
 event&id=38245:dub-antimatters-yasushi-ishikawa-naoyasu-takahashi-arata-og
 awa-dtchainsaw&Itemid=1094\n
DTSTART:20260315T190000
DTEND:20260315T190000
LOCATION:Flying Teapot\,Enomoto Bldg B1F\, 27-7 Sakae-cho\, Nerima-ku\,Ekod
 a
SUMMARY:Dub Antimatters (Yasushi Ishikawa\, Naoyasu Takahashi\, Arata Ogawa
 \, DTchainsaw)
URL:https://www.tokyogigguide.com/index.php?option=com_jem&view=event&id=38
 245:dub-antimatters-yasushi-ishikawa-naoyasu-takahashi-arata-ogawa-dtchain
 saw&Itemid=1094
END:VEVENT
END:VCALENDAR
