BEGIN:VCALENDAR
VERSION:2.0
PRODID:-//104.152.168.27//NONSGML kigkonsult.se iCalcreator 2.20//
CALSCALE:GREGORIAN
METHOD:PUBLISH
X-WR-TIMEZONE:Asia/Tokyo
BEGIN:VEVENT
UID:event38140@Tokyo Gig Guide
DTSTAMP:20260419T222409Z
CATEGORIES:Avant garde\, Blues\, Indie-Rock\, Psychedelic\, Rock n Roll
DESCRIPTION:FUTENZOKU\nカテゴリ: Avant garde\, Blues\, Indie-Rock\, Psychedelic
 \, Rock n Roll\nリンク: https://www.tokyogigguide.com/index.php?option=com_je
 m&view=event&id=38140:futenzoku&Itemid=1094\n
DTSTART:20251024T181500
DTEND:20251024T181500
LOCATION:Loft\,Tatehana Building\, B2 1-12-9 kabukicho\, Shinjuku\,Shinjuku
SUMMARY:FUTENZOKU
URL:https://www.tokyogigguide.com/index.php?option=com_jem&view=event&id=38
 140:futenzoku&Itemid=1094
END:VEVENT
END:VCALENDAR
