BEGIN:VCALENDAR
VERSION:2.0
PRODID:-//104.152.168.27//NONSGML kigkonsult.se iCalcreator 2.20//
CALSCALE:GREGORIAN
METHOD:PUBLISH
X-WR-TIMEZONE:Asia/Tokyo
BEGIN:VEVENT
UID:event38057@Tokyo Gig Guide
DTSTAMP:20260419T150920Z
CATEGORIES:Acoustic\, Classical\, Funk\, Jazz\, New Wave
DESCRIPTION:super Jazz strings　orie hirayama(cello)  maiko(violin)  crusher
  kimura(violin)  shiori tanaka(viola)  yuki ito(bass)\nカテゴリ: Acoustic\, Cl
 assical\, Funk\, Jazz\, New Wave\nリンク: https://www.tokyogigguide.com/index
 .php?option=com_jem&view=event&id=38057:super-jazz-strings-orie-hirayama-c
 ello-maiko-violin-crusher-kimura-violin-shiori-tanaka-viola-yuki-ito-bass&
 Itemid=1094\n
DTSTART:20251014T190000
DTEND:20251014T190000
LOCATION:ZIMAGINE\,6-2-13-B1 Minami-Aoyama\, Minato-ku\, Tokyo\,Omotesando
SUMMARY:super Jazz strings　orie hirayama(cello)  maiko(violin)  crusher kim
 ura(violin)  shiori tanaka(viola)  yuki ito(bass)
URL:https://www.tokyogigguide.com/index.php?option=com_jem&view=event&id=38
 057:super-jazz-strings-orie-hirayama-cello-maiko-violin-crusher-kimura-vio
 lin-shiori-tanaka-viola-yuki-ito-bass&Itemid=1094
END:VEVENT
END:VCALENDAR
