BEGIN:VCALENDAR
VERSION:2.0
PRODID:-//104.152.168.27//NONSGML kigkonsult.se iCalcreator 2.20//
CALSCALE:GREGORIAN
METHOD:PUBLISH
X-WR-TIMEZONE:Asia/Tokyo
BEGIN:VEVENT
UID:event38027@Tokyo Gig Guide
DTSTAMP:20260425T203702Z
CATEGORIES:Funk\, Garage Rock\, Instrumental\, Rock\, Rock n Roll
DESCRIPTION:Naomiz、SoberBrown、KIRA、THE FUZZ ACT\nカテゴリ: Funk\, Garage Rock\,
  Instrumental\, Rock\, Rock n Roll\nリンク: https://www.tokyogigguide.com/ind
 ex.php?option=com_jem&view=event&id=38027:naomiz-soberbrown-kira-the-fuzz-
 act&Itemid=1094\n
DTSTART:20251016T183000
DTEND:20251016T183000
LOCATION:The Shojimaru\,Yoshikawa Bldg. B1 1-4-6 Kandasudacho\,Kanda
SUMMARY:Naomiz、SoberBrown、KIRA、THE FUZZ ACT
URL:https://www.tokyogigguide.com/index.php?option=com_jem&view=event&id=38
 027:naomiz-soberbrown-kira-the-fuzz-act&Itemid=1094
END:VEVENT
END:VCALENDAR
