BEGIN:VCALENDAR
VERSION:2.0
PRODID:-//104.152.168.27//NONSGML kigkonsult.se iCalcreator 2.20//
CALSCALE:GREGORIAN
METHOD:PUBLISH
X-WR-TIMEZONE:Asia/Tokyo
BEGIN:VEVENT
UID:event37988@Tokyo Gig Guide
DTSTAMP:20260424T185512Z
CATEGORIES:Improvised\, Free Jazz\, Festival\, Electronic\, Avant garde
DESCRIPTION:MON/KU × Tadashi Machida\, SPELL//HUNGER\, Hikaribunkai\, esper
 kick\, Hyozo × Hikaru Yamada × Ryotaro Miyasaka\, more\nカテゴリ: Improvised\,
  Free Jazz\, Festival\, Electronic\, Avant garde\nリンク: https://www.tokyogi
 gguide.com/index.php?option=com_jem&view=event&id=37988:mon-ku-tadashi-mac
 hida-spell-hunger-hikaribunkai-esperkick-hyozo-hikaru-yamada-ryotaro-miyas
 aka-subaru-iijima&Itemid=1094\n
DTSTART:20251021T190000
DTEND:20251021T190000
LOCATION:SPREAD\,2-12-6 Kitazawa\, Setagaya-ku\, Tokyo\,Shimokitazawa
SUMMARY:MON/KU × Tadashi Machida\, SPELL//HUNGER\, Hikaribunkai\, esperkick
 \, Hyozo × Hikaru Yamada × Ryotaro Miyasaka\, more
URL:https://www.tokyogigguide.com/index.php?option=com_jem&view=event&id=37
 988:mon-ku-tadashi-machida-spell-hunger-hikaribunkai-esperkick-hyozo-hikar
 u-yamada-ryotaro-miyasaka-subaru-iijima&Itemid=1094
END:VEVENT
END:VCALENDAR
