BEGIN:VCALENDAR
VERSION:2.0
PRODID:-//104.152.168.27//NONSGML kigkonsult.se iCalcreator 2.20//
CALSCALE:GREGORIAN
METHOD:PUBLISH
X-WR-TIMEZONE:Asia/Tokyo
BEGIN:VEVENT
UID:event37972@Tokyo Gig Guide
DTSTAMP:20260424T032023Z
CATEGORIES:Death Metal\, Grindcore\, Hardcore\, Noise\, Punk
DESCRIPTION:Suicide Solution\, CAREGIVER\, Fumble\, Anti Itch Cream\, Total
  Cereal (Salt Lake City\, US)\nカテゴリ: Death Metal\, Grindcore\, Hardcore\, 
 Noise\, Punk\nリンク: https://www.tokyogigguide.com/index.php?option=com_jem&
 view=event&id=37972:suicide-solution-caregiver-fumble-anti-itch-cream-tota
 l-cereal-salt-lake-city-us&Itemid=1094\n
DTSTART:20251018T175000
DTEND:20251018T175000
LOCATION:Daydream\,6F\, 1-1-4\, Minami-cho\, Kichijoji\, Musashino city\,Ki
 chijoji
SUMMARY:Suicide Solution\, CAREGIVER\, Fumble\, Anti Itch Cream\, Total Cer
 eal (Salt Lake City\, US)
URL:https://www.tokyogigguide.com/index.php?option=com_jem&view=event&id=37
 972:suicide-solution-caregiver-fumble-anti-itch-cream-total-cereal-salt-la
 ke-city-us&Itemid=1094
END:VEVENT
END:VCALENDAR
