BEGIN:VCALENDAR
VERSION:2.0
PRODID:-//104.152.168.27//NONSGML kigkonsult.se iCalcreator 2.20//
CALSCALE:GREGORIAN
METHOD:PUBLISH
X-WR-TIMEZONE:Asia/Tokyo
BEGIN:VEVENT
UID:event37473@Tokyo Gig Guide
DTSTAMP:20260424T234714Z
CATEGORIES:Garage Rock\, Pop-punk\, Punk\, Rock n Roll
DESCRIPTION:トゥインクループ (TWINKLOOP)\, more\nカテゴリ: Garage Rock\, Pop-punk\, Pun
 k\, Rock n Roll\nリンク: https://www.tokyogigguide.com/index.php?option=com_j
 em&view=event&id=37473:twinkloop-dr-vo-g-vo-mi-and-more-artists&Itemid=109
 4\n
DTSTART:20250921T183000
DTEND:20250921T183000
LOCATION:Statto\,東京都武蔵野市境1-12-2 ｼｰｻﾞｽﾊﾟﾚｽ B1\,Musashi-Sakai
SUMMARY:トゥインクループ (TWINKLOOP)\, more
URL:https://www.tokyogigguide.com/index.php?option=com_jem&view=event&id=37
 473:twinkloop-dr-vo-g-vo-mi-and-more-artists&Itemid=1094
END:VEVENT
END:VCALENDAR
