BEGIN:VCALENDAR
VERSION:2.0
PRODID:-//104.152.168.27//NONSGML kigkonsult.se iCalcreator 2.20//
CALSCALE:GREGORIAN
METHOD:PUBLISH
X-WR-TIMEZONE:Asia/Tokyo
BEGIN:VEVENT
UID:event37234@Tokyo Gig Guide
DTSTAMP:20260419T230234Z
CATEGORIES:Garage Rock\, Indie\, New Wave\, Post-Punk\, Punk
DESCRIPTION:Kidder\, Goodbye Gangsters\, MIDDLE EDGE\, sassya-\, Academy Fi
 ght Song (Fukuoka)\nカテゴリ: Garage Rock\, Indie\, New Wave\, Post-Punk\, Pun
 k\nリンク: https://www.tokyogigguide.com/index.php?option=com_jem&view=event&
 id=37234:kidder-goodbye-gangsters-middle-edge-sassya-academy-fight-song-fu
 kuoka&Itemid=1094\n
DTSTART:20250823T180000
DTEND:20250823T180000
LOCATION:Daydream\,6F\, 1-1-4\, Minami-cho\, Kichijoji\, Musashino city\,Ki
 chijoji
SUMMARY:Kidder\, Goodbye Gangsters\, MIDDLE EDGE\, sassya-\, Academy Fight 
 Song (Fukuoka)
URL:https://www.tokyogigguide.com/index.php?option=com_jem&view=event&id=37
 234:kidder-goodbye-gangsters-middle-edge-sassya-academy-fight-song-fukuoka
 &Itemid=1094
END:VEVENT
END:VCALENDAR
