BEGIN:VCALENDAR
VERSION:2.0
PRODID:-//104.152.168.27//NONSGML kigkonsult.se iCalcreator 2.20//
CALSCALE:GREGORIAN
METHOD:PUBLISH
X-WR-TIMEZONE:Asia/Tokyo
BEGIN:VEVENT
UID:event37068@Tokyo Gig Guide
DTSTAMP:20260424T075357Z
CATEGORIES:Improvised\, WTF?
DESCRIPTION:REONA (Tap\, Metal perc) × Ippei Kato (加藤一平) (g)\nカテゴリ: Improvi
 sed\, WTF?\nリンク: https://www.tokyogigguide.com/index.php?option=com_jem&vi
 ew=event&id=37068:reona-tap-metalperc-ippei-kato-g&Itemid=1094\n
DTSTART:20250823T190000
DTEND:20250823T190000
LOCATION:Thelonious\,5-9-1\, Higashi Nakano\, Nakano-ku\,Higashi-Nakano
SUMMARY:REONA (Tap\, Metal perc) × Ippei Kato (加藤一平) (g)
URL:https://www.tokyogigguide.com/index.php?option=com_jem&view=event&id=37
 068:reona-tap-metalperc-ippei-kato-g&Itemid=1094
END:VEVENT
END:VCALENDAR
